BEGIN:VCALENDAR
VERSION:2.0
PRODID:-//Library Market//iCal Export//EN
BEGIN:VEVENT
SUMMARY:Mahjong Open Play
UID:9144
DTSTAMP:20260424T073300Z
DTSTART:20260615T180000Z
DTEND:20260615T210000Z
LOCATION:535 Recreation Road, Dothan, AL 36303, United States
ROOM: Westgate Community Room
DESCRIPTION:Mahjong Open PlayLooking for a relaxed space to enjoy Mahjong 
 with fellow players? Drop in for open play and friendly competition. This 
 session is not a lesson, and no instructor will be present! It’s best su
 ited for players who already know the basics or are comfortable teaching t
 hemselves.We will provide one Mahjong tile set and 2025 National Mahjong L
 eague cards for up to 4 players. All four players at a table must use the 
 same year’s card, so groups will need to share from the provided set or 
 bring their own matching cards.Guests are also welcome to bring their own 
 tile sets if they don’t mind sharing with the group. More sets mean more
  tables can play at once.Come to play, practice, or learn together at your
  own pace. 
URL:https://dhcls.librarycalendar.com/event/mahjong-open-play-9144
END:VEVENT
END:VCALENDAR
