BEGIN:VCALENDAR
VERSION:2.0
PRODID:-//Library Market//iCal Export//EN
BEGIN:VEVENT
SUMMARY:Assisted Living 101
UID:9129
DTSTAMP:20260421T110900Z
DTSTART:20260514T180000Z
DTEND:20260514T200000Z
LOCATION:535 Recreation Road, Dothan, AL 36303, United States
ROOM: Westgate Community Room
DESCRIPTION:This meeting will explore the benefits and realities of assist
 ed living as a proactive lifestyle choice. This meeting will focus on main
 taining independence, understanding available amenities, and planning for 
 the future that prioritizes safety and community.
URL:https://dhcls.librarycalendar.com/event/assisted-living-101-9129
END:VEVENT
END:VCALENDAR
