BEGIN:VCALENDAR
VERSION:2.0
PRODID:-//Library Market//iCal Export//EN
BEGIN:VEVENT
SUMMARY:Drawbots
UID:9127
DTSTAMP:20260420T220000Z
DTSTART:20260612T203000Z
DTEND:20260612T211500Z
LOCATION:305 6th Ave., Ashford, AL 36312, United States
ROOM: Drawbots
DESCRIPTION:Do you have a big kid who loves STEM? Then come to our Ashford
  Branch and learn to build a Drawbot. Drawbots are rebuildable, reusable m
 achines that learners build using repositionable foam components, a motori
 zed weight, and markers to create swirling, spinning drawings. The project
  introduces mechanical vibration, iteration, and engineering design while 
 emphasizing creative exploration and working through challenges. 
URL:https://dhcls.librarycalendar.com/event/drawbots-9127
END:VEVENT
END:VCALENDAR
