BEGIN:VCALENDAR
VERSION:2.0
PRODID:-//Library Market//iCal Export//EN
BEGIN:VEVENT
SUMMARY:STEM Challenge- Strawberry DNA Extraction
UID:9106
DTSTAMP:20260423T093400Z
DTSTART:20260506T210000Z
DTEND:20260506T220000Z
LOCATION:535 Recreation Road, Dothan, AL 36303, United States
ROOM: Westgate Community Room
DESCRIPTION:Kids ages 7-15 are welcome to register for our Strawberry DNA 
  STEM Challenge, where you can learn how to mash strawberries to release 
 their DNA while using chemistry to see the results.   
URL:https://dhcls.librarycalendar.com/event/stem-challenge-strawberry-dna-
 extraction-9106
END:VEVENT
END:VCALENDAR
