BEGIN:VCALENDAR
VERSION:2.0
PRODID:-//Library Market//iCal Export//EN
BEGIN:VEVENT
SUMMARY:Author&#039;s Anonymous Writing Group
UID:9080
DTSTAMP:20260421T110900Z
DTSTART:20260618T223000Z
DTEND:20260619T003000Z
LOCATION:535 Recreation Road, Dothan, AL 36303, United States
ROOM: Westgate Community Room
DESCRIPTION:Authorâ€™s Anonymous is a welcoming, creativityâ€‘first write 
 night designed for anyone who wants to explore storytelling in a fun, lowâ
 €‘pressure environment. Each session focuses on a different aspect of writ
 ing, from flash fiction to worldbuilding to memoir, giving participants a 
 chance to experiment and discover their voice. Whether someone is a brandâ
 €‘new writer, a lapsed creative, or a seasoned storyteller looking for com
 munity, this program offers a space to grow.Every meeting blends warmâ€‘up
  games, skill spotlights, and guided writing exercises that spark ideas an
 d break through creative blocks. Writers share as much or as little as the
 y like, building confidence through supportive discussion rather than crit
 ique. The goal isnâ€™t perfection, itâ€™s momentum.Across themed sessions,
  participants explore character, dialogue, plot, emotion, genre, sensory d
 etail, and more. By the end of the program, everyone leaves with a collect
 ion of new writing, a deeper understanding of their creative process, and 
 a personalized writerâ€™s toolbox they can use long after the series ends.
 Authorâ€™s Anonymous is about community, experimentation, and rediscoverin
 g the magic of putting words on the page, one playful prompt at a time.Reg
 istration is not required, but do let us know you are coming so we have en
 ough handouts!
URL:https://dhcls.librarycalendar.com/event/authors-anonymous-writing-grou
 p-9080
END:VEVENT
END:VCALENDAR
