BEGIN:VCALENDAR
VERSION:2.0
PRODID:-//Library Market//iCal Export//EN
BEGIN:VEVENT
SUMMARY:Edge of Creativity: A Special Paint Night Class
UID:9079
DTSTAMP:20260419T172800Z
DTSTART:20260723T223000Z
DTEND:20260724T003000Z
LOCATION:445 N. Oates Street, Dothan, AL 36303, United States
ROOM: Main Community Room
DESCRIPTION:Join us for another artistic evening where the edges of your f
 avorite books become your canvas! In this special paint night class, we’
 ll explore the trending craft of painting book edges to add a touch of mag
 ic and individuality to your beloved tomes.Whether you&#039;re a book love
 r, a seasoned artist, or a curious beginner, this hands-on session is the 
 perfect way to combine the love of literature with art. No prior experienc
 e required, just bring your creativity and your favorite hardcover or pape
 rback books!All materials will be provided, but feel free to bring your ow
 n books for a personal touch. Reserve your spot now and let your imaginati
 on spill over the edges! Please note:If you bring your own books, the edg
 es must be smooth. This is a freehand paint project. 
URL:https://dhcls.librarycalendar.com/event/edge-creativity-special-paint-
 night-class-9079
END:VEVENT
END:VCALENDAR
